BEGIN:VCALENDAR
VERSION:2.0
PRODID:-//ChamberMaster//Event Calendar 2.0//EN
METHOD:PUBLISH
X-PUBLISHED-TTL:P3D
REFRESH-INTERVAL:P3D
CALSCALE:GREGORIAN
BEGIN:VEVENT
DTSTART:20191114T160000Z
DTEND:20191114T180000Z
X-MICROSOFT-CDO-ALLDAYEVENT:FALSE
SUMMARY:Visually Impaired Support Group Meeting
DESCRIPTION:Come out to the Visually Impaired Support Group meeting featuring Kelli Tipton. The topic will be Grace Givers Homecare.
X-ALT-DESC;FMTTYPE=text/html:Come out to the Visually Impaired Support Group meeting featuring Kelli Tipton.&nbsp\;The topic will be Grace Givers Homecare.
LOCATION:Sonshine Soup Kitchen (69 Neecham Street)
UID:e.1560.23346
SEQUENCE:3
DTSTAMP:20260423T145150Z
URL:https://business.crossville-chamber.com/events/details/visually-impaired-support-group-meeting-23346
END:VEVENT

END:VCALENDAR
