BEGIN:VCALENDAR
VERSION:2.0
PRODID:-//ChamberMaster//Event Calendar 2.0//EN
METHOD:PUBLISH
X-PUBLISHED-TTL:P3D
REFRESH-INTERVAL:P3D
CALSCALE:GREGORIAN
BEGIN:VEVENT
DTSTART:20181017T110000Z
DTEND:20181017T233000Z
X-MICROSOFT-CDO-ALLDAYEVENT:FALSE
SUMMARY:Virginia Creeper Trail
DESCRIPTION:We will be heading to Damascus VA for a unique experience and breathtaking views. We will be renting bikes and be shuttled to drop off destination were you will enjoy a beautiful 17 mile downhill bike ride. The trip takes roughly 2.5 - 3 hours. Then kick back and relax and let someone else do the driving home. The trip cost covers your bike rental\, helmet\, water\, and shuttle service plus you transportation.
X-ALT-DESC;FMTTYPE=text/html:We will be heading to Damascus VA for a unique experience and breathtaking views. We will be renting bikes and be shuttled to drop off destination were you will enjoy a beautiful 17 mile downhill bike ride. The trip takes roughly 2.5 - 3 hours. Then kick back and relax and let someone else do the driving home. The trip cost covers your bike rental\, helmet\, water\, and shuttle service plus you transportation.
LOCATION:Fairfield Glade Community and Conference Center
UID:e.1560.20510
SEQUENCE:3
DTSTAMP:20260425T225723Z
URL:https://business.crossville-chamber.com/events/details/virginia-creeper-trail-20510
END:VEVENT

END:VCALENDAR
