BEGIN:VCALENDAR
VERSION:2.0
PRODID:-//ChamberMaster//Event Calendar 2.0//EN
METHOD:PUBLISH
X-PUBLISHED-TTL:P3D
REFRESH-INTERVAL:P3D
CALSCALE:GREGORIAN
BEGIN:VEVENT
DTSTART:20190818T130000Z
DTEND:20190818T180000Z
X-MICROSOFT-CDO-ALLDAYEVENT:FALSE
SUMMARY:Sunday Breakfast Buffet
DESCRIPTION:Build-your-own Omelet\, Eggs Benedict\, French Toast\, Biscuits & Gravy\, Grits\, Bacon\, Sausage Links\, Hash Browns\, Fresh Fruit\, Muffins\, Pastries\, Cereal\, Orange Juice & Coffee
X-ALT-DESC;FMTTYPE=text/html:Build-your-own Omelet\, Eggs Benedict\, French Toast\, Biscuits &amp\; Gravy\, Grits\, Bacon\, Sausage Links\, Hash Browns\, Fresh Fruit\, Muffins\, Pastries\, Cereal\, Orange Juice &amp\; Coffee
LOCATION:Legends at Druid Hills
UID:e.1560.22962
SEQUENCE:3
DTSTAMP:20260419T201226Z
URL:https://business.crossville-chamber.com/events/details/sunday-breakfast-buffet-08-18-2019-22962
END:VEVENT

END:VCALENDAR
