BEGIN:VCALENDAR
VERSION:2.0
PRODID:-//ChamberMaster//Event Calendar 2.0//EN
METHOD:PUBLISH
X-PUBLISHED-TTL:P3D
REFRESH-INTERVAL:P3D
CALSCALE:GREGORIAN
BEGIN:VEVENT
DTSTART:20190712T230000Z
DTEND:20190713T030000Z
X-MICROSOFT-CDO-ALLDAYEVENT:FALSE
SUMMARY:Morgan Clark at Spike's Sports Grille
DESCRIPTION:Morgan Clark @ Spike's Sports Grille
X-ALT-DESC;FMTTYPE=text/html:Morgan Clark&nbsp\;@ Spike&#39\;s Sports Grille<br />\n&nbsp\;
LOCATION:Spike's Sports Grille 4568 Peavine Rd\, Crossville Always Family Friendly & Non Smoking
UID:e.1560.23147
SEQUENCE:3
DTSTAMP:20260423T191057Z
URL:https://business.crossville-chamber.com/events/details/morgan-clark-at-spike-s-sports-grille-23147
END:VEVENT

END:VCALENDAR
