BEGIN:VCALENDAR
VERSION:2.0
PRODID:-//ChamberMaster//Event Calendar 2.0//EN
METHOD:PUBLISH
X-PUBLISHED-TTL:P3D
REFRESH-INTERVAL:P3D
CALSCALE:GREGORIAN
BEGIN:VEVENT
DTSTART:20190621T210000Z
DTEND:20190622T010000Z
X-MICROSOFT-CDO-ALLDAYEVENT:FALSE
SUMMARY:Fresh Catch Friday
DESCRIPTION:Come and enjoy Fresh Catch every Friday!
X-ALT-DESC;FMTTYPE=text/html:Come and enjoy Fresh Catch every Friday!
LOCATION:Legends at Druid Hills\, Fairfield Glade
UID:e.1560.23131
SEQUENCE:3
DTSTAMP:20260419T161330Z
URL:https://business.crossville-chamber.com/events/details/fresh-catch-friday-06-21-2019-23131
END:VEVENT

END:VCALENDAR
