BEGIN:VCALENDAR
VERSION:2.0
PRODID:-//ChamberMaster//Event Calendar 2.0//EN
METHOD:PUBLISH
X-PUBLISHED-TTL:P3D
REFRESH-INTERVAL:P3D
CALSCALE:GREGORIAN
BEGIN:VEVENT
DTSTART:20190925T150000Z
DTEND:20190925T180000Z
X-MICROSOFT-CDO-ALLDAYEVENT:FALSE
SUMMARY:Farmers' Market
DESCRIPTION:Farmers' Market open every Wednesday! Farm fresh produce!
X-ALT-DESC;FMTTYPE=text/html:Farmers&#39\; Market open every Wednesday! Farm fresh produce!
LOCATION:Corner of Peavine & Stonehenge\, Fairfield Glade
UID:e.1560.22653
SEQUENCE:3
DTSTAMP:20260421T210523Z
URL:https://business.crossville-chamber.com/events/details/farmers-market-09-25-2019-22653
END:VEVENT

END:VCALENDAR
