BEGIN:VCALENDAR
VERSION:2.0
PRODID:-//ChamberMaster//Event Calendar 2.0//EN
METHOD:PUBLISH
X-PUBLISHED-TTL:P3D
REFRESH-INTERVAL:P3D
CALSCALE:GREGORIAN
BEGIN:VEVENT
DTSTART:20190724T200000Z
DTEND:20190724T220000Z
X-MICROSOFT-CDO-ALLDAYEVENT:FALSE
SUMMARY:Creekwood Mini Golf Tournament
DESCRIPTION:Creekwood Mini Golf Tournament\, every Wednesday (weather permitting). Open daily 10:00 AM - 8:00 PM.
X-ALT-DESC;FMTTYPE=text/html:Creekwood Mini Golf Tournament\, every Wednesday (weather permitting). Open daily 10:00 AM - 8:00 PM.
LOCATION:Creekwood Mini Golf @ Druid Hills Fairfield Glade
UID:e.1560.23191
SEQUENCE:3
DTSTAMP:20260420T091717Z
URL:https://business.crossville-chamber.com/events/details/creekwood-mini-golf-tournament-07-24-2019-23191
END:VEVENT

END:VCALENDAR
