BEGIN:VCALENDAR
VERSION:2.0
PRODID:-//ChamberMaster//Event Calendar 2.0//EN
METHOD:PUBLISH
X-PUBLISHED-TTL:P3D
REFRESH-INTERVAL:P3D
CALSCALE:GREGORIAN
BEGIN:VEVENT
DTSTART:20200118T160000Z
DTEND:20200118T180000Z
X-MICROSOFT-CDO-ALLDAYEVENT:FALSE
SUMMARY:Chess Class with Alan Kantor
DESCRIPTION:Chess Class with Alan Kantor\n\nOne of the premier chess instructors in the country\, Mr. Kantor has been teaching chess to all ages for over 20 years. Having patience\, he understands what it takes to improve and will work with you to make your move tot he next level.
X-ALT-DESC;FMTTYPE=text/html:Chess Class with Alan Kantor<br />\nOne of the premier chess instructors in the country\, Mr. Kantor has been teaching chess to all ages for over 20 years. Having patience\, he understands what it takes to improve and will work with you to make your move tot he next level.
LOCATION:Art Circle Public Library 3 East Street Crossville\, TN 38555
UID:e.1560.24098
SEQUENCE:3
DTSTAMP:20260425T185800Z
URL:https://business.crossville-chamber.com/events/details/chess-class-with-alan-kantor-01-18-2020-24098
END:VEVENT

END:VCALENDAR
