BEGIN:VCALENDAR
VERSION:2.0
PRODID:-//ChamberMaster//Event Calendar 2.0//EN
METHOD:PUBLISH
X-PUBLISHED-TTL:P3D
REFRESH-INTERVAL:P3D
CALSCALE:GREGORIAN
BEGIN:VEVENT
DTSTART:20201009T150000Z
DTEND:20201009T170000Z
X-MICROSOFT-CDO-ALLDAYEVENT:FALSE
SUMMARY:Basic ARTiE Training(short for ART in Electronics)
DESCRIPTION:ARTiE is an electronic whiteboard that provides many tools to enhance teaching\, learning\, and presentations at the Art Guild's Plateau Creative Arts Center (PCAC).\n\nOpen to AG members only.\n\nMust Register for the class.\n\nMaximum class size is 6 students
X-ALT-DESC;FMTTYPE=text/html:ARTiE is an electronic whiteboard that provides many tools to enhance&nbsp\;teaching\, learning\, and presentations at the Art Guild&rsquo\;s Plateau Creative Arts Center (PCAC).<br />\nOpen to AG members only.<br />\nMust Register for the class.<br />\nMaximum class size is 6 students
LOCATION:Plateau Creative Arts Center
UID:e.1560.24908
SEQUENCE:3
DTSTAMP:20260423T124001Z
URL:https://business.crossville-chamber.com/events/details/basic-artie-training-short-for-art-in-electronics-24908
END:VEVENT

END:VCALENDAR
