BEGIN:VCALENDAR
VERSION:2.0
PRODID:-//ChamberMaster//Event Calendar 2.0//EN
METHOD:PUBLISH
X-PUBLISHED-TTL:P3D
REFRESH-INTERVAL:P3D
CALSCALE:GREGORIAN
BEGIN:VEVENT
DTSTART:20190620T180000Z
DTEND:20190620T210000Z
X-MICROSOFT-CDO-ALLDAYEVENT:FALSE
SUMMARY:2019 ACPL Teen Science
DESCRIPTION:All Teens ages 12 - 18 are invited to attend rocket science with Mr. Brian.
X-ALT-DESC;FMTTYPE=text/html:All Teens ages 12 - 18 are invited to attend rocket science with Mr. Brian.
LOCATION:Art Circle Public Library
UID:e.1560.23039
SEQUENCE:3
DTSTAMP:20260420T153638Z
URL:https://business.crossville-chamber.com/events/details/2019-acpl-teen-science-23039
END:VEVENT

END:VCALENDAR
